BEGIN:VCALENDAR
VERSION:2.0
PRODID:-//Pepe - ECPv6.15.11//NONSGML v1.0//EN
CALSCALE:GREGORIAN
METHOD:PUBLISH
X-ORIGINAL-URL:https://ia.gen81.site
X-WR-CALDESC:Eventos para Pepe
REFRESH-INTERVAL;VALUE=DURATION:PT1H
X-Robots-Tag:noindex
X-PUBLISHED-TTL:PT1H
BEGIN:VTIMEZONE
TZID:America/Santiago
BEGIN:STANDARD
TZOFFSETFROM:-0300
TZOFFSETTO:-0400
TZNAME:-04
DTSTART:20240407T030000
END:STANDARD
BEGIN:DAYLIGHT
TZOFFSETFROM:-0400
TZOFFSETTO:-0300
TZNAME:-03
DTSTART:20240908T040000
END:DAYLIGHT
BEGIN:STANDARD
TZOFFSETFROM:-0300
TZOFFSETTO:-0400
TZNAME:-04
DTSTART:20250406T030000
END:STANDARD
BEGIN:DAYLIGHT
TZOFFSETFROM:-0400
TZOFFSETTO:-0300
TZNAME:-03
DTSTART:20250907T040000
END:DAYLIGHT
BEGIN:STANDARD
TZOFFSETFROM:-0300
TZOFFSETTO:-0400
TZNAME:-04
DTSTART:20260405T030000
END:STANDARD
BEGIN:DAYLIGHT
TZOFFSETFROM:-0400
TZOFFSETTO:-0300
TZNAME:-03
DTSTART:20260906T040000
END:DAYLIGHT
BEGIN:STANDARD
TZOFFSETFROM:-0300
TZOFFSETTO:-0400
TZNAME:-04
DTSTART:20270404T030000
END:STANDARD
BEGIN:DAYLIGHT
TZOFFSETFROM:-0400
TZOFFSETTO:-0300
TZNAME:-03
DTSTART:20270905T040000
END:DAYLIGHT
END:VTIMEZONE
BEGIN:VEVENT
DTSTART;TZID=America/Santiago:20260206T130000
DTEND;TZID=America/Santiago:20260206T170000
DTSTAMP:20260421T020921
CREATED:20251106T030546Z
LAST-MODIFIED:20251106T030546Z
UID:81-1770382800-1770397200@ia.gen81.site
SUMMARY:Harmony in the Park: A Community Music and Arts Festival
DESCRIPTION:Join us for a day of creative expression and community bonding at our annual Harmony in the Park festival! Featuring local musicians\, artists\, and crafters\, this event offers a platform for showcasing talent while fostering connections. From live performances to interactive art installations and workshops for all ages\, there’s something for everyone to enjoy. Bring your family and friends to experience the vibrant culture of our community in the beautiful setting of our local park.
URL:https://ia.gen81.site/event/harmony-in-the-park-a-community-music-and-arts-festival/
LOCATION:Harmony Park\, 112 Main St\, Missoula\, Montana\, United States
CATEGORIES:Community,Festival
ATTACH;FMTTYPE=image/jpeg:https://ia.gen81.site/wp-content/uploads/2025/11/Example-A-Roll-Image-scaled-1.jpg
ORGANIZER;CN="Community Outreach":MAILTO:info@communityoutreach.org
END:VEVENT
BEGIN:VEVENT
DTSTART;TZID=America/Santiago:20260106T130000
DTEND;TZID=America/Santiago:20260106T170000
DTSTAMP:20260421T020921
CREATED:20251106T030546Z
LAST-MODIFIED:20251106T030546Z
UID:80-1767704400-1767718800@ia.gen81.site
SUMMARY:Green Thumb Gathering: Community Gardening Day
DESCRIPTION:Dive into the world of gardening with our Green Thumb Gathering! Whether you’re a seasoned gardener or just getting started\, this community event invites you to learn\, share\, and grow. Participate in workshops on sustainable gardening practices\, plant swaps\, and a community garden project that aims to beautify our neighborhood. It’s a great opportunity to connect with fellow gardening enthusiasts and contribute to a greener\, more sustainable community.
URL:https://ia.gen81.site/event/green-thumb-gathering-community-gardening-day/
LOCATION:Harmony Park\, 112 Main St\, Missoula\, Montana\, United States
CATEGORIES:Community
ATTACH;FMTTYPE=image/jpeg:https://ia.gen81.site/wp-content/uploads/2025/11/Example-A-Roll-Image-scaled-1.jpg
ORGANIZER;CN="Community Outreach":MAILTO:info@communityoutreach.org
END:VEVENT
BEGIN:VEVENT
DTSTART;TZID=America/Santiago:20251206T130000
DTEND;TZID=America/Santiago:20251206T170000
DTSTAMP:20260421T020921
CREATED:20251106T030545Z
LAST-MODIFIED:20251106T030545Z
UID:78-1765026000-1765040400@ia.gen81.site
SUMMARY:Tech Together: Community-Led Technology Workshop
DESCRIPTION:Dive into the digital world with Tech Together\, a series of community-led technology workshops designed to empower residents with the skills needed for the modern age. Whether you’re looking to master the basics of computer use\, understand internet safety\, or explore the realms of coding and digital creativity\, our friendly\, approachable sessions have you covered. Led by local tech enthusiasts and professionals\, these workshops provide a supportive environment for learning and innovation. Join us to bridge the digital divide\, enhance your tech proficiency\, and connect with fellow learners in a collaborative\, inclusive setting.
URL:https://ia.gen81.site/event/tech-together-community-led-technology-workshop/
LOCATION:Event Studio\, 112 Main St\, Missoula\, United States
ATTACH;FMTTYPE=image/jpeg:https://ia.gen81.site/wp-content/uploads/2025/11/Example-A-Roll-Image-scaled-1.jpg
ORGANIZER;CN="Community Outreach":MAILTO:info@communityoutreach.org
END:VEVENT
END:VCALENDAR